BEGIN:VCALENDAR
VERSION:2.0
PRODID:-//Tukios.com/
BEGIN:VEVENT
UID:e5fc91b2-03c2-4c70-b7d1-8d716853801f@obits.seawright-funeralhome.com
DTSTAMP:20260419T204432Z
DTSTART:20260422T180000Z
DTEND:20260422T190000Z
SUMMARY:Graveside Service
DESCRIPTION:
URL:https://obits.seawright-funeralhome.com/james-pike
LOCATION:Good Shepherd Memorial Park 4164 Boiling Springs Rd  Boiling 
	Springs SC 29316
GEO:35.0516959;-81.9902422
END:VEVENT
END:VCALENDAR